BEGIN:VCALENDAR
VERSION:2.0
PRODID:-//ChamberMaster//Event Calendar 2.0//EN
METHOD:PUBLISH
X-PUBLISHED-TTL:P3D
REFRESH-INTERVAL:P3D
CALSCALE:GREGORIAN
BEGIN:VEVENT
DTSTART:20190410T130000Z
DTEND:20190410T150000Z
X-MICROSOFT-CDO-ALLDAYEVENT:FALSE
SUMMARY:Scale Up Your Business
DESCRIPTION:Are you ready to grow your business to the next level?\n\nRepresentatives and partners of the Roanoke Small Business Development Center will provide you with the foundation and strategies you need to accelerate profitable growth for your business. Join us for this free and very valuable workshop!
X-ALT-DESC;FMTTYPE=text/html:<p>Are you ready to grow your business to the next level?</p>\n\n<p>Representatives and partners of the Roanoke Small Business Development Center will provide you with the foundation and strategies you need to accelerate profitable growth for your business. Join us for this free and very valuable workshop!</p>\n
LOCATION:South County Library 6303 Merriman Road\, Roanoke\, VA 24018
UID:e.1293.15478
SEQUENCE:3
DTSTAMP:20260426T000139Z
URL:http://devroanoke.chambermaster.com/events/details/scale-up-your-business-15478
END:VEVENT

END:VCALENDAR
