BEGIN:VCALENDAR
VERSION:2.0
PRODID:-//ChamberMaster//Event Calendar 2.0//EN
METHOD:PUBLISH
X-PUBLISHED-TTL:P3D
REFRESH-INTERVAL:P3D
CALSCALE:GREGORIAN
BEGIN:VEVENT
DTSTART:20191019T233000Z
DTEND:20191020T010000Z
X-MICROSOFT-CDO-ALLDAYEVENT:FALSE
SUMMARY:Romeo & Juliet at Mill Mountain Theatre
DESCRIPTION:ROMEO AND JULIET\nPlay by William Shakespeare\, Adaptation by Travis Kendrick\n\nDrama\, Young Audiences | October 19   October 26\n\n\nWilliam Shakespeare's classic tale of Romeo and Juliet is re-envisioned in an imaginative and theatrical adaptation on the Waldron Stage. Shakespeare's most famous play of love\, family feuds\, and inevitable tragedy takes on a new life with local youth performers. Romeo and Juliet is appropriate for middle and high school students\, and this production will feature student performers\, designers\, and technicians. The Pay-What-You-Can performances will include the distribution of free books to students\, as part of our initiative connecting theatre to literacy.
X-ALT-DESC;FMTTYPE=text/html:<h1>ROMEO AND JULIET</h1>\nPlay by William Shakespeare\, Adaptation by Travis Kendrick\n\n<p>Drama\, Young Audiences | October 19 &ndash\; October 26</p>\n\n<div>\n<p><span style="font-family:inherit\; font-size:inherit">William Shakespeare&rsquo\;s classic tale of&nbsp\;</span><em>Romeo and Juliet</em><span style="font-family:inherit\; font-size:inherit">&nbsp\;is re-envisioned in an imaginative and theatrical adaptation on the Waldron Stage. Shakespeare&rsquo\;s most famous play of love\, family feuds\, and inevitable tragedy takes on a new life with local youth performers. Romeo and Juliet is appropriate for middle and high school students\, and this production will feature student performers\, designers\, and technicians. The Pay-What-You-Can performances will include the distribution of free books to students\, as part of our initiative connecting theatre to literacy.</span></p>\n</div>\n
LOCATION:Mill Mountain Theatre's Waldron Stage\, 20 Church Ave SE\, Roanoke\, VA 24011
UID:e.1293.15662
SEQUENCE:3
DTSTAMP:20260424T143824Z
URL:http://devroanoke.chambermaster.com/events/details/romeo-juliet-15662
END:VEVENT

END:VCALENDAR
