BEGIN:VCALENDAR
VERSION:2.0
PRODID:-//ChamberMaster//Event Calendar 2.0//EN
METHOD:PUBLISH
X-PUBLISHED-TTL:P3D
REFRESH-INTERVAL:P3D
CALSCALE:GREGORIAN
BEGIN:VEVENT
DTSTART:20200712T000000Z
DTEND:20200712T020000Z
X-MICROSOFT-CDO-ALLDAYEVENT:FALSE
SUMMARY:Overnight Sensations
DESCRIPTION:Overnight Sensations 2020\n			\n		\n		\n			\n			Saturday\, July 11\, 8 pm\n\n			\n			\n				\n					\n						 \n						 \n					\n				\n			\n			\n\n			\n			Go to www.BrownPaperTickets.com or www.facebook.com/hollinsplaywrights/events/ to request the Zoom link.\n\n			Since 2006\, the Playwright's Lab at Hollins University has partnered with Mill Mountain Theatre to present a micro-brewed theatre festival. On Friday night six playwrights are randomly paired with six directors\, who then randomly draw from a hat a variety of writing prompts and a pre-selected cast of local actors. Before 8 am the next morning\, they have to write a 10-minute play. They meet via Zoom with their directors over a virtual continental breakfast on Saturday morning and make any last minute changes before the actors sign in to Zoom and the plays begin rehearsal. When 8 pm rolls around\, and the audience are at their screens and the show begins!\n\n			Admission: free\, open to the public.
X-ALT-DESC;FMTTYPE=text/html:<table border="0" cellpadding="0" cellspacing="0" class="twTable" style="color:rgb(0\, 0\, 0)\; font-family:helvetica\,arial\,sans-serif\; font-size:13.3333px\; line-height:1.4em\; width:715.2px">\n	<tbody>\n		<tr>\n			<td colspan="2">\n			<div>Overnight Sensations 2020</div>\n			</td>\n		</tr>\n		<tr>\n			<td colspan="2" style="width:715.2px">\n			<div>Saturday\, July 11\, 8 pm</div>\n\n			<div>\n			<table border="0" cellpadding="0" cellspacing="0" style="line-height:1.4em">\n				<tbody>\n					<tr>\n						<th style="text-align:left">&nbsp\;</th>\n						<td>&nbsp\;</td>\n					</tr>\n				</tbody>\n			</table>\n			</div>\n\n			<div>\n			<p><span style="color:windowtext"><span style="font-family:calibri\,sans-serif"><span style="font-size:11.0pt">Go to </span></span></span><a href="http://www.brownpapertickets.com/"><span style="font-family:calibri\,sans-serif"><span style="font-size:11.0pt">www.BrownPaperTickets.com</span></span></a><span style="color:windowtext"><span style="font-family:calibri\,sans-serif"><span style="font-size:11.0pt"> or </span></span></span><a href="http://www.facebook.com/hollinsplaywrights/events/"><span style="font-family:calibri\,sans-serif"><span style="font-size:11.0pt">www.facebook.com/hollinsplaywrights/events/</span></span></a><span style="font-family:calibri\,sans-serif"><span style="font-size:11.0pt"> to request the Zoom link.</span></span><br />\n			<span style="color:#1D2129"><span style="font-family:calibri\,sans-serif"><span style="font-size:11.0pt">Since 2006\, the Playwright&rsquo\;s Lab at Hollins University has partnered with Mill Mountain Theatre to present a micro-brewed theatre festival. On Friday night six playwrights are randomly paired with six directors\, who then randomly draw from a hat a variety of writing prompts and a pre-selected cast of local actors. Before 8 am the next morning\, they have to write a 10-minute play. They meet via Zoom with their directors over a virtual continental breakfast on Saturday morning and make any last minute changes before the actors sign in to Zoom and the plays begin rehearsal. When 8 pm rolls around\, and the audience are at their screens and the show begins!</span></span></span></p>\n\n			<p>Admission: free\, open to the public.</p>\n			</div>\n			</td>\n		</tr>\n	</tbody>\n</table>\n
LOCATION:
UID:e.1293.16009
SEQUENCE:3
DTSTAMP:20260419T184330Z
URL:http://devroanoke.chambermaster.com/events/details/overnight-sensations-16009
END:VEVENT

END:VCALENDAR
