BEGIN:VCALENDAR
VERSION:2.0
PRODID:-//ChamberMaster//Event Calendar 2.0//EN
METHOD:PUBLISH
X-PUBLISHED-TTL:P3D
REFRESH-INTERVAL:P3D
CALSCALE:GREGORIAN
BEGIN:VEVENT
DTSTART:20190410T153000Z
DTEND:20190410T170000Z
X-MICROSOFT-CDO-ALLDAYEVENT:FALSE
SUMMARY:Opioid Crisis Luncheon
DESCRIPTION:REGISTRATION IS NOW CLOSED\n\n\n\nThe Opioid Crisis in Virginia: Critical Facts for Employers\n\n\n\nReserve your seat today for this free informative program. Topics that will be covered include:\n1. Addiction and the community\n\n2. The brain and addiction\n\n- Behavior and valuation of the future\n\n3. Treatment and costs \n\n- What is effective treatment?\n\n- Societal costs and treatment costs\; what is our ROI?\n\n\n\nThis valuable employer program was made possible through a grant by the Virginia Department of Health. It's complimentary to attend\, but advance registration is required. Lunch will be provided. Please RSVP by April 5\, 2019. Questions? Please contact Michele Peppers at MPeppers@RoanokeChamber.org or 540.983.0700 x107.\n \n\n\nOur expert speakers: \n\nStephanie L. Harper\, M.D.\, M.P.P.\n\nHealth Director\, Roanoke City & Alleghany Health Districts\, Virginia Department of Health\n\nWarren K. Bickel\, Ph.D.\n\nDirector of Addiction Recovery Research Center & Co-Director of Center for Transformative Research on Health Behaviors\, Fralin Biomedical Research Institute \n\nRobert L. Trestman\, Ph.D.\, M.D.\n\nSenior Vice President\, Professor & Chair of Psychiatry\, Carilion Clinic and Virginia Tech Carilion School of Medicine\n\n \n\nThis program is presented by: Roanoke Regional Chamber\, Botetourt Chamber of Commerce\, Montgomery County Chamber of Commerce\, Salem-Roanoke County Chamber of Commerce\, Smith Mountain Lake Regional Chamber of Commerce and Vinton Area Chamber of Commerce
X-ALT-DESC;FMTTYPE=text/html:<br />\n<strong><span style="font-size:22px\;"><span style="font-family:arial\;">REGISTRATION IS NOW CLOSED</span></span></strong><br />\n<br />\n<span style="font-size:20px\;"><span style="font-family:arial\;"><strong>The Opioid Crisis in Virginia: Critical Facts for Employers</strong></span></span><br />\n<br />\n<span style="font-family: arial\; font-size: 16px\;">Reserve your seat today for this free informative program. Topics that will be covered include:</span>\n<div style="margin-left: 80px\;"><span style="font-family: arial\; font-size: 16px\;">1. Addiction and the community<br />\n2.&nbsp\;The brain and addiction</span></div>\n\n<div style="margin-left: 120px\;"><span style="font-size:14px\;"><span style="font-family: arial\;">- Behavior and valuation of the future</span></span></div>\n\n<div style="margin-left: 80px\;"><span style="font-family: arial\; font-size: 16px\;">3. Treatment and costs&nbsp\;</span></div>\n\n<div style="margin-left: 120px\;"><span style="font-size:14px\;"><span style="font-family: arial\;">- What is effective treatment?</span></span></div>\n\n<div style="margin-left: 120px\;"><span style="font-family: arial\; font-size: 16px\;"><span style="font-size:14px\;">- Societal costs and treatment costs\; what is our ROI?</span></span></div>\n\n<div><br />\n<span style="font-family: arial\; font-size: 16px\;">This valuable employer program was made possible&nbsp\;through a grant by the Virginia Department of Health. It&#39\;s complimentary to attend\, but advance registration is required. Lunch will be provided.&nbsp\;</span><strong style="font-family: arial\; font-size: 16px\;">Please RSVP by April 5\, 2019</strong><span style="font-family: arial\; font-size: 16px\;">. Questions? Please contact Michele Peppers at <a href="mailto:mpeppers@roanokechamber.org">MPeppers@RoanokeChamber.org</a> or 540.983.0700 x107.</span></div>\n&nbsp\;\n\n<div>\n<div font-size:="" style="color: rgb(51\, 51\, 51)\; font-family: sans-serif\, Arial\, Verdana\, " trebuchet=""><span style="font-size:16px\;"><span style="font-family:arial\;"><strong>Our expert speakers:</strong>&nbsp\;<br />\nStephanie L. Harper\, M.D.\, M.P.P.</span></span></div>\n\n<div font-size:="" style="color: rgb(51\, 51\, 51)\; margin-left: 40px\;" trebuchet=""><span style="font-size:14px\;"><span style="font-family:arial\;">Health Director\, Roanoke City &amp\; Alleghany Health Districts\, Virginia Department of Health</span></span></div>\n\n<div font-size:="" style="color: rgb(51\, 51\, 51)\; font-family: sans-serif\, Arial\, Verdana\, " trebuchet=""><span style="font-size:16px\;"><span style="font-family:arial\;">Warren K. Bickel\, Ph.D.</span></span></div>\n\n<div font-size:="" style="color: rgb(51\, 51\, 51)\; margin-left: 40px\;" trebuchet=""><span style="font-size:16px\;"><span style="font-family:arial\;"><span style="font-size:14px\;">Director of&nbsp\;Addiction Recovery Research Center &amp\; Co-Director of Center for Transformative Research on Health Behaviors\, Fralin Biomedical Research Institute&nbsp\;</span></span></span></div>\n\n<div font-size:="" style="color: rgb(51\, 51\, 51)\; font-family: sans-serif\, Arial\, Verdana\, " trebuchet=""><span style="font-size:16px\;"><span style="font-family:arial\;">Robert L. Trestman\, Ph.D.\, M.D.</span></span></div>\n\n<div font-size:="" style="color: rgb(51\, 51\, 51)\; margin-left: 40px\;" trebuchet=""><span style="font-size:14px\;"><span style="font-family:arial\;">Senior Vice President\, Professor &amp\; Chair of Psychiatry\, Carilion Clinic and Virginia Tech Carilion School of Medicine</span></span><br />\n&nbsp\;</div>\n</div>\n<em><span style="font-size:16px\;"><span style="font-family:arial\;">This program is presented by:&nbsp\;Roanoke Regional Chamber\,&nbsp\;Botetourt Chamber of Commerce\, Montgomery County Chamber of Commerce\, Salem-Roanoke County Chamber of Commerce\, Smith Mountain Lake Regional Chamber of Commerce and Vinton Area Chamber of Commerce&nbsp\;</span></span></em>
LOCATION:Roanoke Country Club 3360 Old Country Club Road Roanoke\, Virginia 24017
UID:e.1293.15451
SEQUENCE:3
DTSTAMP:20260426T035606Z
URL:http://devroanoke.chambermaster.com/events/details/opioid-crisis-luncheon-15451
END:VEVENT

END:VCALENDAR
