BEGIN:VCALENDAR
VERSION:2.0
PRODID:-//ChamberMaster//Event Calendar 2.0//EN
METHOD:PUBLISH
X-PUBLISHED-TTL:P3D
REFRESH-INTERVAL:P3D
CALSCALE:GREGORIAN
BEGIN:VEVENT
DTSTART:20191030T130000Z
DTEND:20191030T150000Z
X-MICROSOFT-CDO-ALLDAYEVENT:FALSE
SUMMARY:Online Marketing Workshop
DESCRIPTION:The methods that small businesses use to market and promote their enterprises have changed dramatically over the years. Today's owners must become modern-day digital marketers skilled in a variety of areas\, including copy writing\, video production/streaming\, creative content\, social media and more.\n\n \n\nRoanoke County Economic Development and City of Roanoke Economic Development have partnered with Virginia Community Capital to present a workshop focused on helping small businesses learn about resources\, opportunities\, technology and more to promote their business in this century.
X-ALT-DESC;FMTTYPE=text/html:The methods that small businesses use to market and promote their enterprises have changed dramatically over the years. Today&#39\;s owners must become modern-day digital marketers skilled in a variety of areas\, including copy writing\, video production/streaming\, creative content\, social media and more.<br />\n&nbsp\;<br />\nRoanoke County Economic Development and City of Roanoke Economic Development have partnered with Virginia Community Capital to present a workshop focused on helping small businesses learn about resources\, opportunities\, technology and more to promote their business in this century.
LOCATION:South County Library 6303 Merriman Road\, Roanoke\, VA 24018
UID:e.1293.15631
SEQUENCE:3
DTSTAMP:20260422T213818Z
URL:http://devroanoke.chambermaster.com/events/details/online-marketing-workshop-15631
END:VEVENT

END:VCALENDAR
