BEGIN:VCALENDAR
VERSION:2.0
PRODID:-//ChamberMaster//Event Calendar 2.0//EN
METHOD:PUBLISH
X-PUBLISHED-TTL:P3D
REFRESH-INTERVAL:P3D
CALSCALE:GREGORIAN
BEGIN:VEVENT
DTSTART:20191202T223000Z
DTEND:20191203T010000Z
X-MICROSOFT-CDO-ALLDAYEVENT:FALSE
SUMMARY:Men's Monday
DESCRIPTION:ATTENTION Fellas! Join us for Men's Monday on Dec. 2nd for a shopping made easy evening!\n\nPick up the perfect holiday gifts\, pre-wrapped and ready to go! Gifts (and gift cards) will be available from our Day Spa\, A+ Commercial and Residential Cleaning\, PS/82 Pearls\, and Plexus Nutrition!\n\nWe look forward to making your holiday shopping easy!\n\n\n\nAdditionally - we will have snacks\, chair massages\, special promotions\, and we are also looking forward to making a BIG announcement to our GlamHouse Guys at this event!!
X-ALT-DESC;FMTTYPE=text/html:<p>ATTENTION Fellas! Join us for Men&rsquo\;s Monday on Dec. 2nd for a shopping made easy evening!</p>\n\n<p>Pick up the perfect holiday gifts\, pre-wrapped and ready to go! Gifts (and gift cards) will be available from our Day Spa\, A+ Commercial and Residential Cleaning\, PS/82 Pearls\, and Plexus Nutrition!</p>\n\n<p>We look forward to making your holiday shopping easy!<br />\n<br />\nAdditionally - we will have snacks\, chair massages\, special promotions\, and we<span style="background-color:rgb(242\, 243\, 245)\; color:rgb(28\, 30\, 33)\; font-family:helvetica\,arial\,sans-serif">&nbsp\;are also looking forward to making a BIG announcement to our GlamHouse Guys at this event!!</span></p>\n
LOCATION:GlamHouse Day Spa 3746 Colonial Avenue Roanoke\, VA\, 24018
UID:e.1293.15935
SEQUENCE:3
DTSTAMP:20260421T211214Z
URL:http://devroanoke.chambermaster.com/events/details/men-s-monday-15935
END:VEVENT

END:VCALENDAR
