BEGIN:VCALENDAR
VERSION:2.0
PRODID:-//ChamberMaster//Event Calendar 2.0//EN
METHOD:PUBLISH
X-PUBLISHED-TTL:P3D
REFRESH-INTERVAL:P3D
CALSCALE:GREGORIAN
BEGIN:VEVENT
DTSTART:20190712T233000Z
DTEND:20190713T010000Z
X-MICROSOFT-CDO-ALLDAYEVENT:FALSE
SUMMARY:Lecture by Visiting Author/Illustrator Ben Hatke
DESCRIPTION:Lecture by Visiting Author/Illustrator Ben Hatke\n			\n		\n		\n			\n			Friday\, July 12\, 7:30 pm\n\n			\n			\n				\n					\n						 \n						Frances Niederer Auditorium\, Richard Wetherill Visual Arts Center\n					\n				\n			\n			\n\n			\n			Ben Hatke is a writer\, artist\, and author of graphic novels and other kinds of books for Macmillan   most notably The New York Timesbestselling trilogy about Zita the Spacegirl. His picture books include Julia's House for Lost Creatures and Nobody Likes a Goblin\, and graphic novels include Little Rob and Mighty Jack. He claims to like adventures\, and sometimes even misadventures. Hatke lives and works in the Shenandoah Valley with his wife and their boisterous pack of daughters. Sponsored by the graduate program in children's literature and children's book illustration.
X-ALT-DESC;FMTTYPE=text/html:<table border="0" cellpadding="0" cellspacing="0" class="twTable" style="color:rgb(0\, 0\, 0)\; font-family:helvetica\,arial\,sans-serif\; font-size:13.3333px\; line-height:1.4em\; width:715.2px">\n	<tbody>\n		<tr>\n			<td colspan="2">\n			<div>Lecture by Visiting Author/Illustrator Ben Hatke</div>\n			</td>\n		</tr>\n		<tr>\n			<td colspan="2" style="width:715.2px">\n			<div>Friday\, July 12\, 7:30 pm</div>\n\n			<div>\n			<table border="0" cellpadding="0" cellspacing="0" style="line-height:1.4em">\n				<tbody>\n					<tr>\n						<th style="text-align:left">&nbsp\;</th>\n						<td>Frances Niederer Auditorium\, Richard Wetherill Visual Arts Center</td>\n					</tr>\n				</tbody>\n			</table>\n			</div>\n\n			<div>\n			<p>Ben Hatke is a writer\, artist\, and author of graphic novels and other kinds of books for Macmillan &mdash\; most notably&nbsp\;<em>The New York Times</em>bestselling trilogy about&nbsp\;<em>Zita the Spacegirl</em>. His picture books include<em>&nbsp\;Julia&rsquo\;s House for Lost Creatures</em>&nbsp\;and&nbsp\;<em>Nobody Likes a Goblin</em>\, and graphic novels include&nbsp\;<em>Little Rob&nbsp\;</em>and&nbsp\;<em>Mighty Jack</em>. He claims to like adventures\, and sometimes even misadventures. Hatke lives and works in the Shenandoah Valley with his wife and their boisterous pack of daughters. Sponsored by the graduate program in children&#39\;s literature and children&#39\;s book illustration.&nbsp\;</p>\n			</div>\n			</td>\n		</tr>\n	</tbody>\n</table>\n
LOCATION:
UID:e.1293.15511
SEQUENCE:3
DTSTAMP:20260425T125722Z
URL:http://devroanoke.chambermaster.com/events/details/lecture-by-visiting-author-illustrator-ben-hatke-15511
END:VEVENT

END:VCALENDAR
