BEGIN:VCALENDAR
VERSION:2.0
PRODID:-//ChamberMaster//Event Calendar 2.0//EN
METHOD:PUBLISH
X-PUBLISHED-TTL:P3D
REFRESH-INTERVAL:P3D
CALSCALE:GREGORIAN
BEGIN:VEVENT
DTSTART:20190509T220000Z
DTEND:20190509T233000Z
X-MICROSOFT-CDO-ALLDAYEVENT:FALSE
SUMMARY:Front Quad Concert
DESCRIPTION:Front Quad Concert\n			\n		\n		\n			\n			Thursday\, May 9\, 6 pm\n\n			\n			\n				\n					\n						 \n						Front Quad\n					\n				\n			\n			\n\n			\n			Bring your blanket or lawn chair and join the Hollins University Concert Choir\, Chamber Choir\, Talmadge Singers\, and the Mountain Laurels Appalachian Music Ensemble for a lively performance on Front Quad. Ice cream served at 6 pm. Rain location: duPont Chapel.
X-ALT-DESC;FMTTYPE=text/html:<table border="0" cellpadding="0" cellspacing="0" class="twTable" style="color:rgb(0\, 0\, 0)\; font-family:helvetica\,arial\,sans-serif\; font-size:13.3333px\; line-height:1.4em\; width:715.2px">\n	<tbody>\n		<tr>\n			<td colspan="2">\n			<div>Front Quad Concert</div>\n			</td>\n		</tr>\n		<tr>\n			<td colspan="2" style="width:715.2px">\n			<div>Thursday\, May 9\, 6 pm</div>\n\n			<div>\n			<table border="0" cellpadding="0" cellspacing="0" style="line-height:1.4em">\n				<tbody>\n					<tr>\n						<th style="text-align:left">&nbsp\;</th>\n						<td>Front Quad</td>\n					</tr>\n				</tbody>\n			</table>\n			</div>\n\n			<div>\n			<p>Bring your blanket or lawn chair and join the Hollins University Concert Choir\, Chamber Choir\, Talmadge Singers\, and the Mountain Laurels Appalachian Music Ensemble for a lively performance on Front Quad. Ice cream served at 6 pm. Rain location: duPont Chapel.</p>\n			</div>\n			</td>\n		</tr>\n	</tbody>\n</table>\n
LOCATION:
UID:e.1293.15225
SEQUENCE:3
DTSTAMP:20260425T235223Z
URL:http://devroanoke.chambermaster.com/events/details/front-quad-concert-15225
END:VEVENT

END:VCALENDAR
