BEGIN:VCALENDAR
VERSION:2.0
PRODID:-//ChamberMaster//Event Calendar 2.0//EN
METHOD:PUBLISH
X-PUBLISHED-TTL:P3D
REFRESH-INTERVAL:P3D
CALSCALE:GREGORIAN
BEGIN:VEVENT
DTSTART:20200129T140000Z
DTEND:20200129T160000Z
X-MICROSOFT-CDO-ALLDAYEVENT:FALSE
SUMMARY:Financing a Business Workshop
DESCRIPTION:You cannot start or operate a business without the appropriate capital structure but getting it can be a challenge. At this workshop\, we will review the steps to seeking financing\, learn what type of information a lender requires\, and discover financing programs available for new and existing business.\n\n\n\nThis workshop is FREE\, but registration is required. Please reserve your spot here: https://vastartup.org/blog/events/roanoke-financing-a-business-workshop/
X-ALT-DESC;FMTTYPE=text/html:<span style="color:rgb(29\, 33\, 41)\; font-family:helvetica\,arial\,sans-serif\; font-size:14px">You cannot start or operate a business without the appropriate capital structure but getting it can be a challenge. At this workshop\, we will review the steps to seeking financing\, learn what type of information a lender requires\, and discover financing programs available for new and existing business.</span><br />\n<br />\n<span style="color:rgb(29\, 33\, 41)\; font-family:helvetica\,arial\,sans-serif\; font-size:14px">This workshop is FREE\, but registration is required. Please reserve your spot here: </span><a href="https://vastartup.org/blog/events/roanoke-financing-a-business-workshop/?fbclid=IwAR2JKX18nLzWDBhR3MwvDWdLxRAwQw_aVoUE8jhsGKTTxUnkUn_35CjrTsI" rel="nofollow noopener" style="color: rgb(56\, 88\, 152)\; cursor: pointer\; text-decoration-line: none\; font-family: Helvetica\, Arial\, sans-serif\; font-size: 14px\; white-space: pre-wrap\;" target="_blank">https://vastartup.org/blog/events/roanoke-financing-a-business-workshop/</a>
LOCATION:South County Library 6303 Merriman Road Roanoke\, VA 24018
UID:e.1293.15955
SEQUENCE:3
DTSTAMP:20260421T190943Z
URL:http://devroanoke.chambermaster.com/events/details/financing-a-business-workshop-15955
END:VEVENT

END:VCALENDAR
