BEGIN:VCALENDAR
VERSION:2.0
PRODID:-//ChamberMaster//Event Calendar 2.0//EN
METHOD:PUBLISH
X-PUBLISHED-TTL:P3D
REFRESH-INTERVAL:P3D
CALSCALE:GREGORIAN
BEGIN:VEVENT
DTSTART;VALUE=DATE:20191115
DTEND;VALUE=DATE:20191117
TRANSP:TRANSPARENT
X-MICROSOFT-CDO-ALLDAYEVENT:TRUE
SUMMARY:Fall Dance Concert
DESCRIPTION:Fall Dance Concert\n			\n		\n		\n			\n			Friday\, November 15\, and Saturday\, November 16\, 8 pm\n\n			\n			\n				\n					\n						 \n						Theatre\n					\n				\n			\n			\n\n			\n			A culmination of studio practice efforts\, scholarly research\, and creative choreographic/performance compositions by talented students enrolled in Hollins' dance programs. The dance evening promises to challenge and expand notions of contemporary dance\, inspiring us to recognize the vibrant expressivity and innovation embedded inside of this creative work. Featuring choreographic work by faculty\, students\, alumnae/i\, and visiting guest artists. Also on Saturday\, November 16.
X-ALT-DESC;FMTTYPE=text/html:<table border="0" cellpadding="0" cellspacing="0" class="twTable" style="color:rgb(0\, 0\, 0)\; font-family:helvetica\,arial\,sans-serif\; font-size:13.3333px\; line-height:1.4em\; width:715.2px">\n	<tbody>\n		<tr>\n			<td colspan="2">\n			<div><strong>Fall Dance Concert</strong></div>\n			</td>\n		</tr>\n		<tr>\n			<td colspan="2" style="width:715.2px">\n			<div><strong>Friday\, November 15\, and Saturday\, November 16\, 8 pm</strong></div>\n\n			<div>\n			<table border="0" cellpadding="0" cellspacing="0" style="line-height:1.4em">\n				<tbody>\n					<tr>\n						<th style="text-align:left">&nbsp\;</th>\n						<td><strong>Theatre</strong></td>\n					</tr>\n				</tbody>\n			</table>\n			</div>\n\n			<div>\n			<p>A culmination of studio practice efforts\, scholarly research\, and creative choreographic/performance compositions by talented students enrolled in Hollins&rsquo\; dance programs. The dance evening promises to challenge and expand notions of contemporary dance\, inspiring us to recognize the vibrant expressivity and innovation embedded inside of this creative work. Featuring choreographic work by faculty\, students\, alumnae/i\, and visiting guest artists. Also on Saturday\, November 16.</p>\n			</div>\n			</td>\n		</tr>\n	</tbody>\n</table>\n
LOCATION:
UID:e.1293.15734
SEQUENCE:3
DTSTAMP:20260422T022143Z
URL:http://devroanoke.chambermaster.com/events/details/fall-dance-concert-11-15-2019-15734
END:VEVENT

END:VCALENDAR
