BEGIN:VCALENDAR
VERSION:2.0
PRODID:-//ChamberMaster//Event Calendar 2.0//EN
METHOD:PUBLISH
X-PUBLISHED-TTL:P3D
REFRESH-INTERVAL:P3D
CALSCALE:GREGORIAN
BEGIN:VEVENT
DTSTART:20191108T003000Z
DTEND:20191108T023000Z
X-MICROSOFT-CDO-ALLDAYEVENT:FALSE
SUMMARY:Every Brilliant Thing at Mill Mountain Theatre
DESCRIPTION:EVERY BRILLIANT THING\nPlay by Duncan MacMillan and Jonny Donahoe\n\nMMT Fringe Series | Comedy\, Drama | November 7   November 10\n\n\n"You're six years old. Your mother's in the hospital. You're told she finds it hard to be happy. So you start making a list of everything that's brilliant about the world: 1. Ice Cream\, 2. Kung Fu Movies\, 3. Laughing so hard you shoot milk out of your nose." \n\nTouching\, funny\, and brilliantly stripped down\, Every Brilliant Thing is a one-person show about an individual's journey with their mother and her struggle with mental health. The Guardian calls it\, "Heart-wrenching\, hilarious possibly one of the funniest plays you'll ever see."
X-ALT-DESC;FMTTYPE=text/html:<h1>EVERY BRILLIANT THING</h1>\nPlay by Duncan MacMillan and Jonny Donahoe\n\n<p>MMT Fringe Series | Comedy\, Drama | November 7 &ndash\; November 10</p>\n\n<div>\n<p><span style="font-family:inherit\; font-size:inherit">&ldquo\;You&rsquo\;re six years old. Your mother&rsquo\;s in the hospital. You&rsquo\;re told she finds it hard to be happy. So you start making a list of everything that&rsquo\;s brilliant about the world: 1. Ice Cream\, 2. Kung Fu Movies\, 3. Laughing so hard you shoot milk out of your nose.&rdquo\;&nbsp\;</span></p>\n\n<p><span style="font-family:inherit\; font-size:inherit">Touching\, funny\, and brilliantly stripped down\,&nbsp\;</span><em>Every Brilliant Thing</em><span style="font-family:inherit\; font-size:inherit">&nbsp\;is a one-person show about an individual&rsquo\;s journey with their mother and her struggle with mental health. The Guardian calls it\, &ldquo\;Heart-wrenching\, hilarious&hellip\;possibly one of the funniest plays you&rsquo\;ll ever see.&rdquo\;</span></p>\n</div>\n
LOCATION:Mill Mountain Theatre Waldron Stage\, 20 Church Ave SE\, Roanoke\, VA 24011
UID:e.1293.15657
SEQUENCE:3
DTSTAMP:20260421T235148Z
URL:http://devroanoke.chambermaster.com/events/details/every-brilliant-thing-15657
END:VEVENT

END:VCALENDAR
