BEGIN:VCALENDAR
VERSION:2.0
PRODID:-//ChamberMaster//Event Calendar 2.0//EN
METHOD:PUBLISH
X-PUBLISHED-TTL:P3D
REFRESH-INTERVAL:P3D
CALSCALE:GREGORIAN
BEGIN:VEVENT
DTSTART:20191012T230000Z
DTEND:20191013T020000Z
X-MICROSOFT-CDO-ALLDAYEVENT:FALSE
SUMMARY:Comedy Mind Reader Eric Dittelman to Perform at Ferrum College October 12
DESCRIPTION:Ever wonder what it would be like to know what someone else was thinking? What if you knew exactly what someone else was going to do before they did it? Eric Dittelman knows what that's like and has been reading minds at colleges\, comedy clubs\, and private events all across the country.\n\n\n\nSee Eric in action on Saturday\, October 12 at 7 p.m. in the Panthers Den in lower Franklin Hall on Ferrum College's campus\, 215 Ferrum Mountain Road\, Ferrum. This event is FREE\, open to the public\, and brought to you as part of the College's Homecoming 2019 event spanning October 10-13.\n\n\n\nAs seen as a semi-finalist NBC's "America's Got Talent" and a guest on "The Ellen DeGeneres Show"\, Eric Dittelman combines amazing mind reading with stand-up and improvisational comedy. Whether playing a round of Pictionary while Eric's eyes are duct taped shut or having a personal thought revealed from their minds\, audience members become part of the show and leave with a fun experience that they'll never forget.\n\n\n\nVisit www.ericdittelman.com to learn more about Eric and see media clips of him in action!\n\n\n\nSee Ferrum College's Homecoming 2019 schedule here: https://www.ferrum.edu/alumni/homecoming-weekend/.
X-ALT-DESC;FMTTYPE=text/html:Ever wonder what it would be like to know what someone else was thinking? What if you knew exactly what someone else was going to do before they did it? Eric Dittelman knows what that&rsquo\;s like and has been reading minds at colleges\, comedy clubs\, and private events all across the country.<br />\n<br />\nSee Eric in action on <strong>Saturday\, October 12 at 7 p.m. in the Panthers Den in lower Franklin Hall on Ferrum College&rsquo\;s campus\, 215 Ferrum Mountain Road\, Ferrum</strong>. This event is <strong>FREE</strong>\, open to the public\, and brought to you as part of the College&rsquo\;s Homecoming 2019 event spanning October 10-13.<br />\n<br />\nAs seen as a semi-finalist NBC&rsquo\;s &ldquo\;America&rsquo\;s Got Talent&rdquo\; and a guest on &ldquo\;The Ellen DeGeneres Show&rdquo\;\, Eric Dittelman combines amazing mind reading with stand-up and improvisational comedy. Whether playing a round of Pictionary while Eric&rsquo\;s eyes are duct taped shut or having a personal thought revealed from their minds\, audience members become part of the show and leave with a fun experience that they&rsquo\;ll never forget.<br />\n<br />\nVisit <a href="http://www.ericdittelman.com/">www.ericdittelman.com</a> to learn more about Eric and see media clips of him in action!<br />\n<br />\nSee Ferrum College&#39\;s Homecoming 2019 schedule here: <a href="https://www.ferrum.edu/alumni/homecoming-weekend/" target="_blank">https://www.ferrum.edu/alumni/homecoming-weekend/</a>.
LOCATION:Ferrum College campus Panthers Den\, lower Franklin Hall 215 Ferrum Mountain Road Ferrum\, VA 24088
UID:e.1293.15632
SEQUENCE:3
DTSTAMP:20260423T023551Z
URL:http://devroanoke.chambermaster.com/events/details/comedy-mind-reader-eric-dittelman-to-perform-at-ferrum-college-october-12-15632
END:VEVENT

END:VCALENDAR
