BEGIN:VCALENDAR
VERSION:2.0
PRODID:-//ChamberMaster//Event Calendar 2.0//EN
METHOD:PUBLISH
X-PUBLISHED-TTL:P3D
REFRESH-INTERVAL:P3D
CALSCALE:GREGORIAN
BEGIN:VEVENT
DTSTART;VALUE=DATE:20200131
DTEND;VALUE=DATE:20200301
TRANSP:TRANSPARENT
X-MICROSOFT-CDO-ALLDAYEVENT:TRUE
SUMMARY:Chimes Roanoke - Interactive Art
DESCRIPTION:Downtown Roanoke Inc.\, with generous support from ValleyStar Credit Union\, is pleased to invite you to see\, explore\, and interact with Chimes from January 31 - February 29\, 2020 in Market Square. The installation is free\, open to the public\, and appropriate for all ages.\n\nMarket Square is located at 1 Market Square SE in Downtown Roanoke and is open daily from 7:00am - 3:00am.\n\n\n\n \n\nAbout the Installation\n\nChimes refers to the concept of chaos theory\, in which a small action produces a large impact. Inspired by the scientific concept of strange attractors\, a random disorder is set up thanks to 30 lights and 8 speakers that come to life at the slightest swaying of the chimes.\n\nAt rest\, without any interaction\, the installation is in a state of equilibrium. But a simple gust of wind\, or an interaction with a visitor\, transforms the entire ambiance and generates new light and sound patterns. Every chock between the Chimes' bells disturbs the audiovisual environment and can generate divergent evolutions. The results become unpredictable and chaotic. The countless possible combinations give the user a multitude of options to explore. Curious spectators\, step this way!
X-ALT-DESC;FMTTYPE=text/html:<p style="box-sizing: border-box\; margin: 0px 0px 30px\; padding: 0px\; font-family: &quot\;Trade Gothic W01 Light&quot\;\, sans-serif\; font-size: 18px\; line-height: 27px\; text-rendering: optimizelegibility\; letter-spacing: 0.02em\; color: rgb(57\, 57\, 57)\;">Downtown Roanoke Inc.\, with generous support from ValleyStar Credit Union\, is pleased to invite you to see\, explore\, and interact with Chimes from January 31 - February 29\, 2020 in Market Square. The installation is free\, open to the public\, and appropriate for all ages.</p>\n\n<p style="box-sizing: border-box\; margin: 0px 0px 30px\; padding: 0px\; font-family: &quot\;Trade Gothic W01 Light&quot\;\, sans-serif\; font-size: 18px\; line-height: 27px\; text-rendering: optimizelegibility\; letter-spacing: 0.02em\; color: rgb(57\, 57\, 57)\;">Market Square is located at 1 Market Square SE in Downtown Roanoke and is open daily from 7:00am - 3:00am.<br />\n<br />\n&nbsp\;</p>\n\n<p style="box-sizing: border-box\; margin: 0px 0px 30px\; padding: 0px\; font-family: &quot\;Trade Gothic W01 Light&quot\;\, sans-serif\; font-size: 18px\; line-height: 27px\; text-rendering: optimizelegibility\; letter-spacing: 0.02em\; color: rgb(57\, 57\, 57)\;">About the Installation<br style="box-sizing: border-box\;" />\nChimes refers to the concept of chaos theory\, in which a small action produces a large impact. Inspired by the scientific concept of strange attractors\, a random disorder is set up thanks to 30 lights and 8 speakers that come to life at the slightest swaying of the chimes.</p>\n\n<p style="box-sizing: border-box\; margin: 0px 0px 30px\; padding: 0px\; font-family: &quot\;Trade Gothic W01 Light&quot\;\, sans-serif\; font-size: 18px\; line-height: 27px\; text-rendering: optimizelegibility\; letter-spacing: 0.02em\; color: rgb(57\, 57\, 57)\;">At rest\, without any interaction\, the installation is in a state of equilibrium. But a simple gust of wind\, or an interaction with a visitor\, transforms the entire ambiance and generates new light and sound patterns. Every chock between the Chimes&#39\; bells disturbs the audiovisual environment and can generate divergent evolutions. The results become unpredictable and chaotic. The countless possible combinations give the user a multitude of options to explore. Curious spectators\, step this way!</p>\n
LOCATION:Location: Market Square\, Downtown Roanoke\, VA 14 Market Square SE Roanoke\, VA 24011
UID:e.1293.15971
SEQUENCE:3
DTSTAMP:20260422T121422Z
URL:http://devroanoke.chambermaster.com/events/details/chimes-roanoke-interactive-art-15971
END:VEVENT

END:VCALENDAR
